BEGIN:VCALENDAR
VERSION:2.0
PRODID:-//مركز تفرس  - ECPv6.15.14//NONSGML v1.0//EN
CALSCALE:GREGORIAN
METHOD:PUBLISH
X-ORIGINAL-URL:https://cferasah.com
X-WR-CALDESC:Events for مركز تفرس 
REFRESH-INTERVAL;VALUE=DURATION:PT1H
X-Robots-Tag:noindex
X-PUBLISHED-TTL:PT1H
BEGIN:VTIMEZONE
TZID:UTC
BEGIN:STANDARD
TZOFFSETFROM:+0000
TZOFFSETTO:+0000
TZNAME:UTC
DTSTART:20200101T000000
END:STANDARD
END:VTIMEZONE
BEGIN:VEVENT
DTSTART;TZID=UTC:20210802T200000
DTEND;TZID=UTC:20300803T010000
DTSTAMP:20260424T191709
CREATED:20180413T174007Z
LAST-MODIFIED:20180413T174007Z
UID:1301-1627934400-1911949200@cferasah.com
SUMMARY:Late Night Party
DESCRIPTION:Well\, I got better. Ah\, now we see the violence inherent in the system! The swallow may fly south with the sun\, and the house martin or the plover may seek warmer climes in winter\, yet these are not strangers to our land. It’s only a model. It’s only a model.
URL:https://cferasah.com/event/late-night-party/
LOCATION:Party Haus\, 330 S Broadway Unit 602\, Los Angelos\, CA\, 90013\, united States
CATEGORIES:Nightlife,Party
END:VEVENT
END:VCALENDAR